BEGIN:VCALENDAR
VERSION:2.0
PRODID:-//RAZ Zeitung - ECPv6.15.20//NONSGML v1.0//EN
CALSCALE:GREGORIAN
METHOD:PUBLISH
X-ORIGINAL-URL:https://raz-zeitung.de
X-WR-CALDESC:Veranstaltungen für RAZ Zeitung
REFRESH-INTERVAL;VALUE=DURATION:PT1H
X-Robots-Tag:noindex
X-PUBLISHED-TTL:PT1H
BEGIN:VTIMEZONE
TZID:Europe/Berlin
BEGIN:DAYLIGHT
TZOFFSETFROM:+0100
TZOFFSETTO:+0200
TZNAME:CEST
DTSTART:20250330T010000
END:DAYLIGHT
BEGIN:STANDARD
TZOFFSETFROM:+0200
TZOFFSETTO:+0100
TZNAME:CET
DTSTART:20251026T010000
END:STANDARD
BEGIN:DAYLIGHT
TZOFFSETFROM:+0100
TZOFFSETTO:+0200
TZNAME:CEST
DTSTART:20260329T010000
END:DAYLIGHT
BEGIN:STANDARD
TZOFFSETFROM:+0200
TZOFFSETTO:+0100
TZNAME:CET
DTSTART:20261025T010000
END:STANDARD
BEGIN:DAYLIGHT
TZOFFSETFROM:+0100
TZOFFSETTO:+0200
TZNAME:CEST
DTSTART:20270328T010000
END:DAYLIGHT
BEGIN:STANDARD
TZOFFSETFROM:+0200
TZOFFSETTO:+0100
TZNAME:CET
DTSTART:20271031T010000
END:STANDARD
END:VTIMEZONE
BEGIN:VEVENT
DTSTART;VALUE=DATE:20260320
DTEND;VALUE=DATE:20260606
DTSTAMP:20260419T173359
CREATED:20260323T150518Z
LAST-MODIFIED:20260323T120655Z
UID:69938-1773964800-1780703999@raz-zeitung.de
SUMMARY:„PERIPHERIE“
DESCRIPTION:Die Ausstellung versammelt künstlerische Positionen\, in denen das Periphere in den Vordergrund rückt – Orte\, Menschen und Momente\, die normalerweise nicht im Fokus der Aufmerksamkeit stehen.
URL:https://raz-zeitung.de/termin/peripherie/
LOCATION:Rathaus-Galerie Reinickendorf\, Eichborndamm 215\, Berlin\, 13437\, Germany
CATEGORIES:Ausstellung
END:VEVENT
BEGIN:VEVENT
DTSTART;VALUE=DATE:20260323
DTEND;VALUE=DATE:20260615
DTSTAMP:20260419T173359
CREATED:20260323T111749Z
LAST-MODIFIED:20260323T111840Z
UID:69915-1774224000-1781481599@raz-zeitung.de
SUMMARY:„__REICH AN ZEICHEN“
DESCRIPTION:Die Ausstellung zeigt Arbeiten von 17 Künstler:innen in unterschiedlichen Medien\, bei denen die Zeichnung eine zentrale Rolle spielt – entweder als unmittelbarer Ausdruck oder als Grundlage für das Werk. Sie verbindet physische und geistige Ebenen und macht den kreativen Prozess greifbar\, bei dem Inhalt und Form untrennbar zusammenwirken.
URL:https://raz-zeitung.de/termin/__reich-an-zeichen/
LOCATION:GalerieETAGE\, Alt-Hermsdorf 35\, 13467
CATEGORIES:Ausstellung
ATTACH;FMTTYPE=image/jpeg:https://raz-zeitung.de/wp-content/uploads/2026/03/PM_2508_Ina-Kerkhoff_Pe1224-2024-Fotografie-Masse-variabel-©-Ina-Kerkhoff.jpg
END:VEVENT
END:VCALENDAR