BEGIN:VCALENDAR
VERSION:2.0
PRODID:-//RAZ Zeitung - ECPv6.15.20//NONSGML v1.0//EN
CALSCALE:GREGORIAN
METHOD:PUBLISH
X-ORIGINAL-URL:https://raz-zeitung.de
X-WR-CALDESC:Veranstaltungen für RAZ Zeitung
REFRESH-INTERVAL;VALUE=DURATION:PT1H
X-Robots-Tag:noindex
X-PUBLISHED-TTL:PT1H
BEGIN:VTIMEZONE
TZID:Europe/Berlin
BEGIN:DAYLIGHT
TZOFFSETFROM:+0100
TZOFFSETTO:+0200
TZNAME:CEST
DTSTART:20250330T010000
END:DAYLIGHT
BEGIN:STANDARD
TZOFFSETFROM:+0200
TZOFFSETTO:+0100
TZNAME:CET
DTSTART:20251026T010000
END:STANDARD
BEGIN:DAYLIGHT
TZOFFSETFROM:+0100
TZOFFSETTO:+0200
TZNAME:CEST
DTSTART:20260329T010000
END:DAYLIGHT
BEGIN:STANDARD
TZOFFSETFROM:+0200
TZOFFSETTO:+0100
TZNAME:CET
DTSTART:20261025T010000
END:STANDARD
BEGIN:DAYLIGHT
TZOFFSETFROM:+0100
TZOFFSETTO:+0200
TZNAME:CEST
DTSTART:20270328T010000
END:DAYLIGHT
BEGIN:STANDARD
TZOFFSETFROM:+0200
TZOFFSETTO:+0100
TZNAME:CET
DTSTART:20271031T010000
END:STANDARD
END:VTIMEZONE
BEGIN:VEVENT
DTSTART;VALUE=DATE:20260128
DTEND;VALUE=DATE:20260516
DTSTAMP:20260419T144019
CREATED:20260219T124645Z
LAST-MODIFIED:20260219T124645Z
UID:69296-1769558400-1778889599@raz-zeitung.de
SUMMARY:„Ohne Titel“ Neue Kunstwerke der Graphothek Berlin
DESCRIPTION:Einmal jährlich zeigt die Graphothek Berlin ihre Neuerwerbungen in der Rathaus-Galerie Reinickendorf. In der Ausstellung werden mehr als 50 Werke aus Druckgrafik\, Zeichnung\, Fotografie und fotografischer Collage präsentiert. Nach Ende der Ausstellung können alle gezeigten Arbeiten ausgeliehen werden. \n 
URL:https://raz-zeitung.de/termin/ohne-titel-neue-kunstwerke-der-graphothek-berlin-2/
LOCATION:Rathaus-Galerie Reinickendorf\, Eichborndamm 215\, Berlin\, 13437\, Germany
CATEGORIES:Ausstellung
ATTACH;FMTTYPE=image/jpeg:https://raz-zeitung.de/wp-content/uploads/2026/02/Monnin-Jean-Baptiste-806x1024-1.jpg
END:VEVENT
BEGIN:VEVENT
DTSTART;VALUE=DATE:20260320
DTEND;VALUE=DATE:20260606
DTSTAMP:20260419T144019
CREATED:20260323T150518Z
LAST-MODIFIED:20260323T120655Z
UID:69938-1773964800-1780703999@raz-zeitung.de
SUMMARY:„PERIPHERIE“
DESCRIPTION:Die Ausstellung versammelt künstlerische Positionen\, in denen das Periphere in den Vordergrund rückt – Orte\, Menschen und Momente\, die normalerweise nicht im Fokus der Aufmerksamkeit stehen.
URL:https://raz-zeitung.de/termin/peripherie/
LOCATION:Rathaus-Galerie Reinickendorf\, Eichborndamm 215\, Berlin\, 13437\, Germany
CATEGORIES:Ausstellung
END:VEVENT
BEGIN:VEVENT
DTSTART;VALUE=DATE:20260323
DTEND;VALUE=DATE:20260615
DTSTAMP:20260419T144019
CREATED:20260323T111749Z
LAST-MODIFIED:20260323T111840Z
UID:69915-1774224000-1781481599@raz-zeitung.de
SUMMARY:„__REICH AN ZEICHEN“
DESCRIPTION:Die Ausstellung zeigt Arbeiten von 17 Künstler:innen in unterschiedlichen Medien\, bei denen die Zeichnung eine zentrale Rolle spielt – entweder als unmittelbarer Ausdruck oder als Grundlage für das Werk. Sie verbindet physische und geistige Ebenen und macht den kreativen Prozess greifbar\, bei dem Inhalt und Form untrennbar zusammenwirken.
URL:https://raz-zeitung.de/termin/__reich-an-zeichen/
LOCATION:GalerieETAGE\, Alt-Hermsdorf 35\, 13467
CATEGORIES:Ausstellung
ATTACH;FMTTYPE=image/jpeg:https://raz-zeitung.de/wp-content/uploads/2026/03/PM_2508_Ina-Kerkhoff_Pe1224-2024-Fotografie-Masse-variabel-©-Ina-Kerkhoff.jpg
END:VEVENT
BEGIN:VEVENT
DTSTART;VALUE=DATE:20260323
DTEND;VALUE=DATE:20260530
DTSTAMP:20260419T144019
CREATED:20260323T170704Z
LAST-MODIFIED:20260323T120919Z
UID:69940-1774224000-1780099199@raz-zeitung.de
SUMMARY:„Schicht um Schicht: Der Mensch im Blick“
DESCRIPTION:Die Gemälde von Anetta Küchler-Mocny zeigen durch dicken Farbauftrag und geschichtete Strukturen Aspekte von Identität\, kultureller Zugehörigkeit und menschlicher Erfahrung.
URL:https://raz-zeitung.de/termin/schicht-um-schicht-der-mensch-im-blick/
LOCATION:resiART und Galerie Interkulturell\, Residenzstraße 132\, resiART und Galerie Interkulturell\, 13409
CATEGORIES:Ausstellung
ATTACH;FMTTYPE=image/jpeg:https://raz-zeitung.de/wp-content/uploads/2026/03/PM_2506_Anetta-Kuechler-Mocny-Foto-Christoph-Piecha-2-scaled.jpg
END:VEVENT
BEGIN:VEVENT
DTSTART;VALUE=DATE:20260401
DTEND;VALUE=DATE:20260525
DTSTAMP:20260419T144019
CREATED:20260417T090031Z
LAST-MODIFIED:20260415T083812Z
UID:70381-1775001600-1779667199@raz-zeitung.de
SUMMARY:Zwischen Himmel und Erde
DESCRIPTION:Beate Gebauer zeigt in der Evangelische Stadtkirche Velten eine Ausstellung mit realistischen Bildern\, die vom Staunen über die heimische Naturlandschaft und von Perspektiven auf Glück und Lebensfreude erzählen. Die Werke spiegeln bewusstes Wahrnehmen\, positive Energie und die besondere Wirkung alltäglicher Motive wider.
URL:https://raz-zeitung.de/termin/zwischen-himmel-und-erde/
LOCATION:Ev. Stadtkirche Velten\, Velten\, 16727
CATEGORIES:Ausstellung
ATTACH;FMTTYPE=image/jpeg:https://raz-zeitung.de/wp-content/uploads/2026/04/Bild-Beate-Gebauer.jpg
END:VEVENT
BEGIN:VEVENT
DTSTART;TZID=Europe/Berlin:20260419T170000
DTEND;TZID=Europe/Berlin:20260419T190000
DTSTAMP:20260419T144019
CREATED:20260408T182834Z
LAST-MODIFIED:20260408T182920Z
UID:70262-1776618000-1776625200@raz-zeitung.de
SUMMARY:Gospel with heart and soul
DESCRIPTION:Family & Friends bringt traditionelle und moderne Gospelmusik sowie Eigen-kompositionen auf die Bühne. Der Chor besteht aus rund 20 Sänger*innen\, die ihre Leidenschaft für Gospel mit Herz und Seele teilen.
URL:https://raz-zeitung.de/termin/gospel-with-heart-and-soul/
LOCATION:LabSaal Lübars\, Alt-Lübars 8\, Berlin\, 13469\, Deutschland
CATEGORIES:Musik
ATTACH;FMTTYPE=image/webp:https://raz-zeitung.de/wp-content/uploads/2026/04/IMG-20241207-WA0003-e1762632245359.webp
END:VEVENT
BEGIN:VEVENT
DTSTART;TZID=Europe/Berlin:20260422T180000
DTEND;TZID=Europe/Berlin:20260422T200000
DTSTAMP:20260419T144019
CREATED:20260323T122258Z
LAST-MODIFIED:20260323T122258Z
UID:69953-1776880800-1776888000@raz-zeitung.de
SUMMARY:Testscreening mit Überraschungsfilm
DESCRIPTION:Das Kino Arsenal eröffnet Anfang Mai in der Westhalle des silent green Kulturquartier. Alle Weddinger\, die in den Postleitzahlen 13347\, 13349\, 13351\, 13353\, 13357 wohnen\, sind zu einem Testscreening mit Überraschungsfilm vor der offiziellen Eröffnung eingeladen. Anmeldung per per Mail unter: invite@arsenal-berlin.de mit Angabe des Datums und der Uhrzeit\, 22. April um 18 Uhr\, und der Postleitzahl.
URL:https://raz-zeitung.de/termin/testscreening-mit-ueberraschungsfilm/
LOCATION:Arsenal Filminstitut e.V.\, Gerichtstraße 53\, Berlin\, 13347
CATEGORIES:KIno
END:VEVENT
BEGIN:VEVENT
DTSTART;TZID=Europe/Berlin:20260422T193000
DTEND;TZID=Europe/Berlin:20260422T213000
DTSTAMP:20260419T144019
CREATED:20260323T121641Z
LAST-MODIFIED:20260323T121641Z
UID:69949-1776886200-1776893400@raz-zeitung.de
SUMMARY:Theatersport Berlin – die Ballhaus Show
DESCRIPTION:Bei Theatersport Berlin entscheidet das Publikum\, welche Szenen gespielt werden und welches Team als Sieger hervorgeht\, während der Moderator Fouls ahndet. Die Schauspieler und Musiker entwickeln live aus Publikums-Vorschlägen spontane\, wechselnde Szenen.
URL:https://raz-zeitung.de/termin/theatersport-berlin-die-ballhaus-show/
LOCATION:Ballhaus Wedding\, Wriezener Str. 6\, Berlin\, Berlin\, 13359
CATEGORIES:Show
ATTACH;FMTTYPE=image/jpeg:https://raz-zeitung.de/wp-content/uploads/2026/03/koiroylers-ai-generated-9630762-scaled.jpg
END:VEVENT
BEGIN:VEVENT
DTSTART;TZID=Europe/Berlin:20260423T190000
DTEND;TZID=Europe/Berlin:20260423T210000
DTSTAMP:20260419T144019
CREATED:20260323T165737Z
LAST-MODIFIED:20260323T120308Z
UID:69936-1776970800-1776978000@raz-zeitung.de
SUMMARY:„Zwischen Missbrauchsaufarbeitung und Lust auf Zukunft“
DESCRIPTION:Im Rahmen der Reihe „Hermsdorfer Kirchengespräch“ lädt die Katholische Gemeinde zu einem Gespräch mit Marc Frings\, Generalsekretär des Zentralkomitees der deutschen Katholiken (ZdK)\, ein.
URL:https://raz-zeitung.de/termin/zwischen-missbrauchsaufarbeitung-und-lust-auf-zukunft/
LOCATION:Gemeindezentrum Maria Gnaden\, Hermsdorfer Damm 195-197\, 13467
CATEGORIES:Gespräch
END:VEVENT
BEGIN:VEVENT
DTSTART;TZID=Europe/Berlin:20260430T210000
DTEND;TZID=Europe/Berlin:20260430T230000
DTSTAMP:20260419T144019
CREATED:20260323T172324Z
LAST-MODIFIED:20260323T122447Z
UID:69956-1777582800-1777590000@raz-zeitung.de
SUMMARY:Tanz in den Mai
DESCRIPTION:Der Tanz in den Mai steht im Stil der 1920er Jahre mit Swing-Musik von DJ Stephan Wuthe und Live-Auftritten der Savoy Satellites. Besucher können in passender Kleidung tanzen und einen Abend mit Musik der 30er und 40er Jahre erleben. Die Band spielt Klassiker unter anderem von Count Basie\, Duke Ellington und Benny Goodman.
URL:https://raz-zeitung.de/termin/tanz-in-den-mai/
LOCATION:Ballhaus Wedding\, Wriezener Str. 6\, Berlin\, Berlin\, 13359
CATEGORIES:Tanz
ATTACH;FMTTYPE=image/png:https://raz-zeitung.de/wp-content/uploads/2026/03/tanz-in-den-mai.png
END:VEVENT
END:VCALENDAR